BEGIN:VCALENDAR
PRODID:-//eluceo/ical//2.0/EN
VERSION:2.0
CALSCALE:GREGORIAN
BEGIN:VEVENT
UID:0e8744dde7b58a9fbf6930397f0e1deb
DTSTAMP:20260424T203247Z
SUMMARY:4:00p Religious School-HA
DESCRIPTION:The Knoxville Jewish Alliance\nThe Knoxville Jewish Alliance Ca
 lendar\nhttps://jewishknoxville.org/calendar/400p-religious-school-ha2-275
 151\n\nReligious School at Heska Amuna 
DTSTART;TZID=America/New_York:20180822T160000
DTEND;TZID=America/New_York:20180822T183000
END:VEVENT
END:VCALENDAR
