BEGIN:VCALENDAR
PRODID:-//eluceo/ical//2.0/EN
VERSION:2.0
CALSCALE:GREGORIAN
BEGIN:VEVENT
UID:e50a35ec19be66b2101de76f4b300bb2
DTSTAMP:20260422T090310Z
SUMMARY:4:15 - 6:15 p.m.-Share the Dream Meeting-Orwitz Room 217
DESCRIPTION:The Knoxville Jewish Alliance\nThe Knoxville Jewish Alliance Ca
 lendar\nhttps://jewishknoxville.org/calendar/415-615-pm-share-the-dream-me
 eting-orwitz-room-217-323399\n\nShare the Dream Meeting\n\nTuesday Septemb
 er 17th \n\n4:15-6:15 p.m.\n\n Orwitz room
DTSTART;TZID=America/New_York:20190917T161500
DTEND;TZID=America/New_York:20190917T181500
END:VEVENT
END:VCALENDAR
