BEGIN:VCALENDAR
PRODID:-//eluceo/ical//2.0/EN
VERSION:2.0
CALSCALE:GREGORIAN
BEGIN:VEVENT
UID:a8079843f9f555c58359d3967051fa97
DTSTAMP:20260420T095450Z
SUMMARY:4:30 - 6:00 p.m. - Beginning Sign Language with Bob Grimac - AJCC B
 BYO Room
DESCRIPTION:The Knoxville Jewish Alliance\nThe Knoxville Jewish Alliance Ca
 lendar\nhttps://jewishknoxville.org/calendar/430-600-pm--beginning-sign-la
 nguage-with-bob-grimac---ajcc-bbyo-room-231904\n\nBeginning Sign Language 
 with Bob Griam
DTSTART;TZID=America/New_York:20170605T163000
DTEND;TZID=America/New_York:20170605T180000
END:VEVENT
END:VCALENDAR
