BEGIN:VCALENDAR
PRODID:-//eluceo/ical//2.0/EN
VERSION:2.0
CALSCALE:GREGORIAN
BEGIN:VEVENT
UID:1fedadd3b0e197c4104457c430b679f3
DTSTAMP:20260422T223050Z
SUMMARY:4:30 - 7:00 p.m. - MCDC Staff Meeting - AJCC Orwitz Room
DESCRIPTION:The Knoxville Jewish Alliance\nThe Knoxville Jewish Alliance Ca
 lendar\nhttps://jewishknoxville.org/calendar/430-700-pm--mcdc-staff-meetin
 g---ajcc-orwitz-room-228850\n\nMCDC Staff Meeting
DTSTART;TZID=America/New_York:20170523T163000
DTEND;TZID=America/New_York:20170523T190000
END:VEVENT
END:VCALENDAR
