BEGIN:VCALENDAR
PRODID:-//eluceo/ical//2.0/EN
VERSION:2.0
CALSCALE:GREGORIAN
BEGIN:VEVENT
UID:599f9dc6ada6fb2c825feabc6038e82e
DTSTAMP:20260422T090225Z
SUMMARY:4:30 p.m. - 6:30 p.m. - Beginning Sign Language/Music - BBYO Room
DESCRIPTION:The Knoxville Jewish Alliance\nThe Knoxville Jewish Alliance Ca
 lendar\nhttps://jewishknoxville.org/calendar/430-pm-630-pm--beginning-sign
 -languagemusic---bbyo-room-220887\n\nBeginning Sign Language\n\n \n\nMusi
 c
DTSTART;TZID=America/New_York:20170213T163000
DTEND;TZID=America/New_York:20170213T183000
END:VEVENT
END:VCALENDAR
