BEGIN:VCALENDAR
PRODID:-//eluceo/ical//2.0/EN
VERSION:2.0
CALSCALE:GREGORIAN
BEGIN:VEVENT
UID:b4ad2e64f2cc0d80f38fe12ed054208f
DTSTAMP:20260422T182447Z
SUMMARY:4:30p-6:00p - Mock Seder - HA
DESCRIPTION:The Knoxville Jewish Alliance\nThe Knoxville Jewish Alliance Ca
 lendar\nhttps://jewishknoxville.org/calendar/430p-600p---mock-seder---ha-1
 518125366\n\nPlease join Heska Amuna Religious School and our dear friends
  from PJ Library for our mock seder!  All are welcome!
DTSTART;TZID=America/New_York:20180321T163000
DTEND;TZID=America/New_York:20180321T180000
END:VEVENT
END:VCALENDAR
