BEGIN:VCALENDAR
PRODID:-//eluceo/ical//2.0/EN
VERSION:2.0
CALSCALE:GREGORIAN
BEGIN:VEVENT
UID:a9e1d63158a552bc8e3920335ca1168c
DTSTAMP:20260424T100537Z
SUMMARY:4:30p Mid-Week Hebrew -TBE
DESCRIPTION:The Knoxville Jewish Alliance\nThe Knoxville Jewish Alliance Ca
 lendar\nhttps://jewishknoxville.org/calendar/430p-mid-week-hebrew-tbe-1882
 24\n\nMid Week Hebrew - TBE
DTSTART;TZID=America/New_York:20160824T163000
DTEND;TZID=America/New_York:20160824T174500
END:VEVENT
END:VCALENDAR
