BEGIN:VCALENDAR
PRODID:-//eluceo/ical//2.0/EN
VERSION:2.0
CALSCALE:GREGORIAN
BEGIN:VEVENT
UID:bc8630d6a29728d2a2f8f179de9b1cec
DTSTAMP:20260423T053107Z
SUMMARY:4:30P Shabbat at Sherrill Hills
DESCRIPTION:The Knoxville Jewish Alliance\nThe Knoxville Jewish Alliance Ca
 lendar\nhttps://jewishknoxville.org/calendar/430p-shabbat-at-sherrill-hill
 s-1770663804\n\nPlease Join Us at Shabbat at Sherrill Hills
DTSTART;TZID=America/New_York:20260306T163000
DTEND;TZID=America/New_York:20260306T173000
END:VEVENT
END:VCALENDAR
