BEGIN:VCALENDAR
PRODID:-//eluceo/ical//2.0/EN
VERSION:2.0
CALSCALE:GREGORIAN
BEGIN:VEVENT
UID:936d97ef24c65a4f8010968c376a5387
DTSTAMP:20260423T070244Z
SUMMARY:4:30p Yom Kippur Yizkor/Memorial Service-TBE
DESCRIPTION:The Knoxville Jewish Alliance\nThe Knoxville Jewish Alliance Ca
 lendar\nhttps://jewishknoxville.org/calendar/430p-yom-kippur-yizkor-memori
 al-service-tbe-206760\n\n4:30p Yom Kippur Yizkor/Memorial Service
DTSTART;TZID=America/New_York:20161012T163000
DTEND;TZID=America/New_York:20161012T173000
END:VEVENT
END:VCALENDAR
