BEGIN:VCALENDAR
PRODID:-//eluceo/ical//2.0/EN
VERSION:2.0
CALSCALE:GREGORIAN
BEGIN:VEVENT
UID:430ea188288d283e19b1bb699327ad22
DTSTAMP:20260422T171125Z
SUMMARY:4:30pm 1st Day MidWeek Hebrew-TBE
DESCRIPTION:The Knoxville Jewish Alliance\nThe Knoxville Jewish Alliance Ca
 lendar\nhttps://jewishknoxville.org/calendar/430pm-1st-day-midweek-hebrew-
 tbe-383164\n\n4:30pm 1st Day MidWeek Hebrew
DTSTART;TZID=America/New_York:20210825T163000
DTEND;TZID=America/New_York:20210825T180000
END:VEVENT
END:VCALENDAR
