BEGIN:VCALENDAR
PRODID:-//eluceo/ical//2.0/EN
VERSION:2.0
CALSCALE:GREGORIAN
BEGIN:VEVENT
UID:8d95d233fd3523b02e34fb6e8b554f5a
DTSTAMP:20260423T223917Z
SUMMARY:4:30pm Mid-Week Hebrew - TBE
DESCRIPTION:The Knoxville Jewish Alliance\nThe Knoxville Jewish Alliance Ca
 lendar\nhttps://jewishknoxville.org/calendar/430pm-mid-week-hebrew-tbe-202
 0-2021-355687\n\n4:30pm Mid-Week Hebrew - TBE
DTSTART;TZID=America/New_York:20201125T163000
DTEND;TZID=America/New_York:20201125T180000
END:VEVENT
END:VCALENDAR
