BEGIN:VCALENDAR
PRODID:-//eluceo/ical//2.0/EN
VERSION:2.0
CALSCALE:GREGORIAN
BEGIN:VEVENT
UID:5b9bc13fa9ea27978aa7ed6d0a6f5f6a
DTSTAMP:20260422T010448Z
SUMMARY:4:30pm Last Day of Mid-Week Hebrew - TBE
DESCRIPTION:The Knoxville Jewish Alliance\nThe Knoxville Jewish Alliance Ca
 lendar\nhttps://jewishknoxville.org/calendar/430pm-mid-week-hebrew-tbe-202
 0-2021-355693\n\n4:30pm Last Day of Mid-Week Hebrew - TBE
DTSTART;TZID=America/New_York:20210421T163000
DTEND;TZID=America/New_York:20210421T180000
END:VEVENT
END:VCALENDAR
