BEGIN:VCALENDAR
PRODID:-//eluceo/ical//2.0/EN
VERSION:2.0
CALSCALE:GREGORIAN
BEGIN:VEVENT
UID:e956ed0f91888c170f8a8caf1a3a4569
DTSTAMP:20260424T215037Z
SUMMARY:4:30pm Old Cemetery Service - TBE
DESCRIPTION:The Knoxville Jewish Alliance\nThe Knoxville Jewish Alliance Ca
 lendar\nhttps://jewishknoxville.org/calendar/430pm-old-cemetery-service-tb
 e-355570\n\n4:30pm Old Cemetery Service - TBE
DTSTART;TZID=America/New_York:20200923T163000
DTEND;TZID=America/New_York:20200923T170000
END:VEVENT
END:VCALENDAR
