BEGIN:VCALENDAR
PRODID:-//eluceo/ical//2.0/EN
VERSION:2.0
CALSCALE:GREGORIAN
BEGIN:VEVENT
UID:5b5e1146d931b31cd1c864638dbd7d6f
DTSTAMP:20260421T170344Z
SUMMARY:4p Yom HaShoah Remembrance-JCOR
DESCRIPTION:The Knoxville Jewish Alliance\nThe Knoxville Jewish Alliance Ca
 lendar\nhttps://jewishknoxville.org/calendar/4p-yom-hashoah-remembrance-jc
 or\n\nSunday\, May 8 at 4 p.m. - Yom HaShoah Remembrance 
DTSTART;TZID=America/New_York:20160508T160000
DTEND;TZID=America/New_York:20160508T173000
END:VEVENT
END:VCALENDAR
