BEGIN:VCALENDAR
PRODID:-//eluceo/ical//2.0/EN
VERSION:2.0
CALSCALE:GREGORIAN
BEGIN:VEVENT
UID:4e8948703f4c154c3e17404319541c03
DTSTAMP:20260422T083524Z
SUMMARY:5-7 - Noa's Farewell Reception
DESCRIPTION:The Knoxville Jewish Alliance\nThe Knoxville Jewish Alliance Ca
 lendar\nhttps://jewishknoxville.org/calendar/5-7-noas-farewell-reception\n
 \nNoa\, our 2025 Shinshin\, is headed home. Join us for a casual drop-in g
 athering to say farewell and thank you to Noa as she prepares to leave Kno
 xville. Let's come together to celebrate her time with our community and w
 ish her well on her next journey. 
DTSTART;TZID=America/New_York:20250711T170000
DTEND;TZID=America/New_York:20250711T190000
END:VEVENT
END:VCALENDAR
