BEGIN:VCALENDAR
PRODID:-//eluceo/ical//2.0/EN
VERSION:2.0
CALSCALE:GREGORIAN
BEGIN:VEVENT
UID:9f938c77ef62c01ce4ef557923ea50a0
DTSTAMP:20260424T213614Z
SUMMARY:5-7pm - BBYO-Connect Pool Party
DESCRIPTION:The Knoxville Jewish Alliance\nThe Knoxville Jewish Alliance Ca
 lendar\nhttps://jewishknoxville.org/calendar/5-7pm-bbyo-connect-pool-party
 \n\nPool party for middle schoolers hosted by our ShinShin\, Noa!
DTSTART;TZID=America/New_York:20250701T170000
DTEND;TZID=America/New_York:20250701T190000
END:VEVENT
END:VCALENDAR
