BEGIN:VCALENDAR
PRODID:-//eluceo/ical//2.0/EN
VERSION:2.0
CALSCALE:GREGORIAN
BEGIN:VEVENT
UID:16aca747f5abfc3f699a8776659abf70
DTSTAMP:20260421T104525Z
SUMMARY:5:00 - 7:00 p.m. - CWA Meeting - AJCC  Orwitz Rm 217
DESCRIPTION:The Knoxville Jewish Alliance\nThe Knoxville Jewish Alliance Ca
 lendar\nhttps://jewishknoxville.org/calendar/500-700-pm--cwa-meeting---ajc
 c--orwitz-rm-217-334016\n\nCWA Meeting\n\n5:00 p.m. - 7:00 p.m.
DTSTART;TZID=America/New_York:20191218T170000
DTEND;TZID=America/New_York:20191218T190000
END:VEVENT
END:VCALENDAR
