BEGIN:VCALENDAR
PRODID:-//eluceo/ical//2.0/EN
VERSION:2.0
CALSCALE:GREGORIAN
BEGIN:VEVENT
UID:f9a772749baa920a3325ce4f4ff7e48c
DTSTAMP:20260425T020423Z
SUMMARY:5:00 - 7:00 p.m. - Sharing The Dream Meeting - AJCC  Orwitz Rm 217
DESCRIPTION:The Knoxville Jewish Alliance\nThe Knoxville Jewish Alliance Ca
 lendar\nhttps://jewishknoxville.org/calendar/500-700-pm--sharing-the-dream
 -meeting---ajcc--orwitz-rm-217-331527\n\nSharing The Dream Meeting \n\n A
 JCC  Orwitz Rm 217\n\n5:00 - 7:00 p.m.
DTSTART;TZID=America/New_York:20191029T170000
DTEND;TZID=America/New_York:20191029T190000
END:VEVENT
END:VCALENDAR
