BEGIN:VCALENDAR
PRODID:-//eluceo/ical//2.0/EN
VERSION:2.0
CALSCALE:GREGORIAN
BEGIN:VEVENT
UID:a02ea63e5a682b0f048cb6b81cf1a2e9
DTSTAMP:20260425T020524Z
SUMMARY:5:00 - 7:00 p.m. - Sundown in the Sukkah - AJCC Sukkah
DESCRIPTION:The Knoxville Jewish Alliance\nThe Knoxville Jewish Alliance Ca
 lendar\nhttps://jewishknoxville.org/calendar/500-700-pm--sundown-in-the-su
 kkah---ajcc-sukkah\n\nSundown in the Sukkah\, 5-7 PM at the AJCC Sukkah
DTSTART;TZID=America/New_York:20180927T170000
DTEND;TZID=America/New_York:20180927T190000
END:VEVENT
END:VCALENDAR
