BEGIN:VCALENDAR
PRODID:-//eluceo/ical//2.0/EN
VERSION:2.0
CALSCALE:GREGORIAN
BEGIN:VEVENT
UID:d3383825bec38d2f788ded65b9cb477e
DTSTAMP:20260425T134527Z
SUMMARY:5:00 - 7:00 p.m. - Sundown in the Sukkah - AJCC Outdoor Sukkah
DESCRIPTION:The Knoxville Jewish Alliance\nThe Knoxville Jewish Alliance Ca
 lendar\nhttps://jewishknoxville.org/calendar/500-700-pm--sundown-in-the-su
 kkah-275234\n\nSundown in the Sukkah event
DTSTART;TZID=America/New_York:20160927T170000
DTEND;TZID=America/New_York:20160927T190000
END:VEVENT
END:VCALENDAR
