BEGIN:VCALENDAR
PRODID:-//eluceo/ical//2.0/EN
VERSION:2.0
CALSCALE:GREGORIAN
BEGIN:VEVENT
UID:0edc8f6477892af50ad5845994713677
DTSTAMP:20260425T174501Z
SUMMARY:5:00 - 8:00 p.m. - Shabbat at the Pool - AJCC Pool
DESCRIPTION:The Knoxville Jewish Alliance\nThe Knoxville Jewish Alliance Ca
 lendar\nhttps://jewishknoxville.org/calendar/500-800-pm--shabbat-at-the-po
 ol---ajcc-pool-228854\n\nFriday Night Chill Dinner & \n\nService at the 
 AJCC Pool\n\nFriday August 11\n\nRain or Shine\n\n \n\n5:30 p.m. - Tot Sh
 abbat & PJ Library at the Baby Pool\n\n6:00 p.m. - Kosher BBQ with Veggie
  Option\n\n7:15 p.m. - Friday Night Chill Service led by Jared & Anna Iro
 ff-Bailey\n\n \n\nRSVP for dinner by August 8:\n\noffice@jewishknoxville.
 org or (865) 690-6343\n\n\n AJCC Members:  $7 person\; $25 family c...
DTSTART;TZID=America/New_York:20170811T170000
DTEND;TZID=America/New_York:20170811T200000
END:VEVENT
END:VCALENDAR
