BEGIN:VCALENDAR
PRODID:-//eluceo/ical//2.0/EN
VERSION:2.0
CALSCALE:GREGORIAN
BEGIN:VEVENT
UID:e643e6a5ae03ff9f68293bd17d5bb4a0
DTSTAMP:20260425T032934Z
SUMMARY:5:00p-8:00p -First Night Community Seder - HA
DESCRIPTION:The Knoxville Jewish Alliance\nThe Knoxville Jewish Alliance Ca
 lendar\nhttps://jewishknoxville.org/calendar/500p-800p-first-night-communi
 ty-seder-ha-264281\n\nRegistration deadline is March 16.  Please call the
  office or register online at www.heskaamuna.org.
DTSTART;TZID=America/New_York:20180330T050000
DTEND;TZID=America/New_York:20180330T200000
END:VEVENT
END:VCALENDAR
