BEGIN:VCALENDAR
PRODID:-//eluceo/ical//2.0/EN
VERSION:2.0
CALSCALE:GREGORIAN
BEGIN:VEVENT
UID:3279de703ebd5fbae031f2a32cbd67d1
DTSTAMP:20260424T190132Z
SUMMARY:5:15p Kid-Friendly Oneg/Dinner-HAS
DESCRIPTION:The Knoxville Jewish Alliance\nThe Knoxville Jewish Alliance Ca
 lendar\nhttps://jewishknoxville.org/calendar/515p-kid-friendly-onegdinner-
 has\n\nJoin Rabbi Rosenbaum for our Tot Shabbat/Family-Friendly Dinner.
DTSTART;TZID=America/New_York:20260116T171500
DTEND;TZID=America/New_York:20260116T183000
END:VEVENT
END:VCALENDAR
