BEGIN:VCALENDAR
PRODID:-//eluceo/ical//2.0/EN
VERSION:2.0
CALSCALE:GREGORIAN
BEGIN:VEVENT
UID:e74b7a67d2cb37d94e3c82daf1e4ba52
DTSTAMP:20260422T183233Z
SUMMARY:5:30-7:00 p.m. - David Barnett Reception - AJCC Schwarzbart Gallery
  Lobby
DESCRIPTION:The Knoxville Jewish Alliance\nThe Knoxville Jewish Alliance Ca
 lendar\nhttps://jewishknoxville.org/calendar/530-700-pm-david-barnett-rece
 ption--ajcc-schwarzbart-gallery-lobby-194592\n\nDavid Barnett Reception
DTSTART;TZID=America/New_York:20160829T173000
DTEND;TZID=America/New_York:20160829T190000
END:VEVENT
END:VCALENDAR
