BEGIN:VCALENDAR
PRODID:-//eluceo/ical//2.0/EN
VERSION:2.0
CALSCALE:GREGORIAN
BEGIN:VEVENT
UID:8e7ae5732e6e8149313931d089bbb5c3
DTSTAMP:20260424T153600Z
SUMMARY:5:30 - 7:30 p.m. - Community Open Mic  - The Central Collective
DESCRIPTION:The Knoxville Jewish Alliance\nThe Knoxville Jewish Alliance Ca
 lendar\nhttps://jewishknoxville.org/calendar/530-730-pm--community-open-mi
 c----the-central-collective-209037\n\n
DTSTART;TZID=America/New_York:20170211T173000
DTEND;TZID=America/New_York:20170211T193000
END:VEVENT
END:VCALENDAR
