BEGIN:VCALENDAR
PRODID:-//eluceo/ical//2.0/EN
VERSION:2.0
CALSCALE:GREGORIAN
BEGIN:VEVENT
UID:0d334c52c88b75fa10ec2a5893376e0a
DTSTAMP:20260425T033408Z
SUMMARY:5:30 - 8:30 p.m. - 2016 KJA Campaign Kick Off Event - Location TBD
DESCRIPTION:The Knoxville Jewish Alliance\nThe Knoxville Jewish Alliance Ca
 lendar\nhttps://jewishknoxville.org/calendar/530-830-pm--2016-kja-campaign
 -kick-off-event---location-tbd-176549\n\nJoin us for Cocktails and Hors D'
 oeuvres
DTSTART;TZID=America/New_York:20160131T173000
DTEND;TZID=America/New_York:20160131T203000
END:VEVENT
END:VCALENDAR
