BEGIN:VCALENDAR
PRODID:-//eluceo/ical//2.0/EN
VERSION:2.0
CALSCALE:GREGORIAN
BEGIN:VEVENT
UID:09f538b9591d96e3e52db7d63b408b25
DTSTAMP:20260422T103110Z
SUMMARY:5:30 p.m. - Beyond Schindler Inaugural Lecture - UTK McClung Aud
DESCRIPTION:The Knoxville Jewish Alliance\nThe Knoxville Jewish Alliance Ca
 lendar\nhttps://jewishknoxville.org/calendar/530-pm-beyond-schindler-inaug
 ural-lecture--utk-mcclung-aud-247121\n\nInaugural Lecture\n\nBeyond Schind
 ler: the other Jews of the Krakow Ghetto\n\nHelene Sinnreich\n\n5:30pm\n\n
 Mcclung Auditorium\n\nReception to follow
DTSTART;TZID=America/New_York:20171108T173000
DTEND;TZID=America/New_York:20171108T200000
END:VEVENT
END:VCALENDAR
