BEGIN:VCALENDAR
PRODID:-//eluceo/ical//2.0/EN
VERSION:2.0
CALSCALE:GREGORIAN
BEGIN:VEVENT
UID:e435d56eb60c21a76713b56281e6378e
DTSTAMP:20260422T194733Z
SUMMARY:CANCELLED 5:30 p.m. - Community Shabbat Dinner - AJCC Orwitz Room
DESCRIPTION:The Knoxville Jewish Alliance\nThe Knoxville Jewish Alliance Ca
 lendar\nhttps://jewishknoxville.org/calendar/530-pm-community-shabbat-dinn
 er--ajcc-orwitz-room-289892\n\nCommunity Shabbat Dinner\n\nA family-friend
 ly\, casual Shabbat dinner open to all.\n\nA vegetarian meal will be serve
 d.\n\nRSVP to:  rliberthal@gmail.com\n\n 
DTSTART;TZID=America/New_York:20181019T173000
DTEND;TZID=America/New_York:20181019T213000
END:VEVENT
END:VCALENDAR
