BEGIN:VCALENDAR
PRODID:-//eluceo/ical//2.0/EN
VERSION:2.0
CALSCALE:GREGORIAN
BEGIN:VEVENT
UID:49024dd15cf3023ccf952a9a26dd2dcc
DTSTAMP:20260423T205439Z
SUMMARY:5:30 p.m. - Family Promise Training - AJCC Orwitz Room
DESCRIPTION:The Knoxville Jewish Alliance\nThe Knoxville Jewish Alliance Ca
 lendar\nhttps://jewishknoxville.org/calendar/530-pm-family-promise-trainin
 g--ajcc-orwitz-room-221397\n\nFamily Promise Training Session
DTSTART;TZID=America/New_York:20170208T173000
DTEND;TZID=America/New_York:20170208T193000
END:VEVENT
END:VCALENDAR
