BEGIN:VCALENDAR
PRODID:-//eluceo/ical//2.0/EN
VERSION:2.0
CALSCALE:GREGORIAN
BEGIN:VEVENT
UID:a34620a3d57514b68881c8aa4ea54480
DTSTAMP:20260423T094229Z
SUMMARY:5:30 p.m. - MCDC Pool Release Orientation - AJCC Pool
DESCRIPTION:The Knoxville Jewish Alliance\nThe Knoxville Jewish Alliance Ca
 lendar\nhttps://jewishknoxville.org/calendar/530-pm-mcdc-pool-release-orie
 ntation--ajcc-pool-228863\n\nMandatory for any AJCC member wishing to have
  children released to pool after MCDC Camp.
DTSTART;TZID=America/New_York:20170522T173000
DTEND;TZID=America/New_York:20170522T193000
END:VEVENT
END:VCALENDAR
