BEGIN:VCALENDAR
PRODID:-//eluceo/ical//2.0/EN
VERSION:2.0
CALSCALE:GREGORIAN
BEGIN:VEVENT
UID:8120841fde5fd685aaf170b3b03e8a52
DTSTAMP:20260424T141446Z
SUMMARY:5:30p - HA - Shabbat School
DESCRIPTION:The Knoxville Jewish Alliance\nThe Knoxville Jewish Alliance Ca
 lendar\nhttps://jewishknoxville.org/calendar/530p---ha---shabbat-school-15
 08355911\n\nHeska Amuna Religious School's Shabbat School
DTSTART;TZID=America/New_York:20180323T173000
DTEND;TZID=America/New_York:20180323T173000
END:VEVENT
END:VCALENDAR
