BEGIN:VCALENDAR
PRODID:-//eluceo/ical//2.0/EN
VERSION:2.0
CALSCALE:GREGORIAN
BEGIN:VEVENT
UID:24ac15f718083495cd554d5fbc3ce89d
DTSTAMP:20260421T204549Z
SUMMARY:5:30p-7:00p - HA - Kabbalat Shabbat School
DESCRIPTION:The Knoxville Jewish Alliance\nThe Knoxville Jewish Alliance Ca
 lendar\nhttps://jewishknoxville.org/calendar/530p-700p---ha---kabbalat-sha
 bbat-school-1516301255\n\nHeska Amuna Religious School observes Kabbalat S
 habbat.
DTSTART;TZID=America/New_York:20180323T173000
DTEND;TZID=America/New_York:20180323T190000
END:VEVENT
END:VCALENDAR
