BEGIN:VCALENDAR
PRODID:-//eluceo/ical//2.0/EN
VERSION:2.0
CALSCALE:GREGORIAN
BEGIN:VEVENT
UID:54e03bb03e539e45963dacffe4d2e43a
DTSTAMP:20260422T072141Z
SUMMARY:5:30p Kids Kabbalat & Tot Shabbat-HA
DESCRIPTION:The Knoxville Jewish Alliance\nThe Knoxville Jewish Alliance Ca
 lendar\nhttps://jewishknoxville.org/calendar/530p-kids-kabbalat-tot-shabba
 t-ha-267057\n\nTot Shabbat is an interactive service for infants\, toddle
 rs\, pre-schoolers and parents.  Kids Kabbalat is a musical\, interactive
  service for elementary school students. Please join us for dinner afterwa
 rds.
DTSTART;TZID=America/New_York:20180413T173000
DTEND;TZID=America/New_York:20180413T180000
END:VEVENT
END:VCALENDAR
