BEGIN:VCALENDAR
PRODID:-//eluceo/ical//2.0/EN
VERSION:2.0
CALSCALE:GREGORIAN
BEGIN:VEVENT
UID:7541df278ed6f6e5412b7db2c74dffad
DTSTAMP:20260422T115537Z
SUMMARY:5:30 - 6:30 p.m. - Tot Shabbat - Heska Amuna
DESCRIPTION:The Knoxville Jewish Alliance\nThe Knoxville Jewish Alliance Ca
 lendar\nhttps://jewishknoxville.org/calendar/530p-tot-shabbat-ha1\n\n5\;30
 p Tot Shabbat\n\n6 p.m. Dinner\n\n6:30p Friday Night Chill
DTSTART;TZID=America/New_York:20170421T173000
DTEND;TZID=America/New_York:20170421T183000
END:VEVENT
END:VCALENDAR
