BEGIN:VCALENDAR
PRODID:-//eluceo/ical//2.0/EN
VERSION:2.0
CALSCALE:GREGORIAN
BEGIN:VEVENT
UID:05b4571a73ace804a6f334982fe823b5
DTSTAMP:20260424T153025Z
SUMMARY:5:30pm New Cemetery Service - TBE
DESCRIPTION:The Knoxville Jewish Alliance\nThe Knoxville Jewish Alliance Ca
 lendar\nhttps://jewishknoxville.org/calendar/530pm-new-cemetery-service-tb
 e-355571\n\n5:30pm New Cemetery Service - TBE
DTSTART;TZID=America/New_York:20200923T173000
DTEND;TZID=America/New_York:20200923T180000
END:VEVENT
END:VCALENDAR
