BEGIN:VCALENDAR
PRODID:-//eluceo/ical//2.0/EN
VERSION:2.0
CALSCALE:GREGORIAN
BEGIN:VEVENT
UID:d66f90cd07351fb81393c356356b5d3a
DTSTAMP:20260422T115753Z
SUMMARY:5:45-6:30p Soccer Shots-AJCC Gym
DESCRIPTION:The Knoxville Jewish Alliance\nThe Knoxville Jewish Alliance Ca
 lendar\nhttps://jewishknoxville.org/calendar/545-630-pm--soccer-shots---aj
 cc-gym-178566\n\nSoccer Shots
DTSTART;TZID=America/New_York:20160121T174500
DTEND;TZID=America/New_York:20160121T183000
END:VEVENT
END:VCALENDAR
