BEGIN:VCALENDAR
PRODID:-//eluceo/ical//2.0/EN
VERSION:2.0
CALSCALE:GREGORIAN
BEGIN:VEVENT
UID:e85b7a2f679bfa381c759401d8aa2f3d
DTSTAMP:20260425T025652Z
SUMMARY:5p-Tashlich & Mincha on River-HAS
DESCRIPTION:The Knoxville Jewish Alliance\nThe Knoxville Jewish Alliance Ca
 lendar\nhttps://jewishknoxville.org/calendar/5p-tashlich-mincha-on-river-h
 as\n\nContact Heska Amuna for all details.\n\nCherokee Blvd.
DTSTART;TZID=America/New_York:20250923T170000
DTEND;TZID=America/New_York:20250923T190000
END:VEVENT
END:VCALENDAR
