BEGIN:VCALENDAR
PRODID:-//eluceo/ical//2.0/EN
VERSION:2.0
CALSCALE:GREGORIAN
BEGIN:VEVENT
UID:e4eb7d639057331e6765655df2fd5816
DTSTAMP:20260421T204554Z
SUMMARY:6:30 - 10:00 p.m. - KJA Budget Committee Meeting - AJCC Orwitz Room
DESCRIPTION:The Knoxville Jewish Alliance\nThe Knoxville Jewish Alliance Ca
 lendar\nhttps://jewishknoxville.org/calendar/600-700-pm--kja-budget-commit
 tee-meeting---ajcc-orwitz-room-201980\n\nKJA Budget Committee Meeting
DTSTART;TZID=America/New_York:20160927T183000
DTEND;TZID=America/New_York:20160927T220000
END:VEVENT
END:VCALENDAR
