BEGIN:VCALENDAR
PRODID:-//eluceo/ical//2.0/EN
VERSION:2.0
CALSCALE:GREGORIAN
BEGIN:VEVENT
UID:a0ff04bf842a256cf4ce9bdac00902af
DTSTAMP:20260425T191647Z
SUMMARY:6:00 - 7:00 p.m. - KJA Executive Committee Meeting - AJCC Orwitz Ro
 om
DESCRIPTION:The Knoxville Jewish Alliance\nThe Knoxville Jewish Alliance Ca
 lendar\nhttps://jewishknoxville.org/calendar/600-700-pm--kja-executive-com
 mittee-meeting---ajcc-orwitz-room5-215421\n\nKJA Executive Committee Meeti
 ng
DTSTART;TZID=America/New_York:20170814T180000
DTEND;TZID=America/New_York:20170814T190000
END:VEVENT
END:VCALENDAR
