BEGIN:VCALENDAR
PRODID:-//eluceo/ical//2.0/EN
VERSION:2.0
CALSCALE:GREGORIAN
BEGIN:VEVENT
UID:e2d83dad8593327b7b2f2f9f50eaee84
DTSTAMP:20260421T191903Z
SUMMARY:6:00 - 7:30 p.m. - KJA Executive Committee Meeting -  AJCC  Orwitz 
 Rm 217
DESCRIPTION:The Knoxville Jewish Alliance\nThe Knoxville Jewish Alliance Ca
 lendar\nhttps://jewishknoxville.org/calendar/600-730-pm--kja-executive-com
 mittee-meeting----ajcc--orwitz-rm-217-342796\n\n6:00 - 7:30 p.m. - KJA Exe
 cutive Committee Meeting - AJCC  Orwitz Room 217
DTSTART;TZID=America/New_York:20200302T180000
DTEND;TZID=America/New_York:20200302T193000
END:VEVENT
END:VCALENDAR
