BEGIN:VCALENDAR
PRODID:-//eluceo/ical//2.0/EN
VERSION:2.0
CALSCALE:GREGORIAN
BEGIN:VEVENT
UID:728949e9d97adc2153b79cc935cc9def
DTSTAMP:20260426T044336Z
SUMMARY:5:00 - 7:00 p.m. - STEM Scouts - AJCC BBYO Room
DESCRIPTION:The Knoxville Jewish Alliance\nThe Knoxville Jewish Alliance Ca
 lendar\nhttps://jewishknoxville.org/calendar/600-730-pm--stem-scouts---ajc
 c-bbyo-room-252554\n\nSTEM Scouts
DTSTART;TZID=America/New_York:20171101T170000
DTEND;TZID=America/New_York:20171101T190000
END:VEVENT
END:VCALENDAR
