BEGIN:VCALENDAR
PRODID:-//eluceo/ical//2.0/EN
VERSION:2.0
CALSCALE:GREGORIAN
BEGIN:VEVENT
UID:162ea8711b714298691d9c5d4db92b4e
DTSTAMP:20260424T031300Z
SUMMARY:6-8p Sisterhood Rosh Hodesh Program - JCOR
DESCRIPTION:The Knoxville Jewish Alliance\nThe Knoxville Jewish Alliance Ca
 lendar\nhttps://jewishknoxville.org/calendar/600-800-pm-sisterhood-rosh-ho
 desh-program--jcor-199372\n\nSisterhood Rosh Hodesh Program
DTSTART;TZID=America/New_York:20160804T180000
DTEND;TZID=America/New_York:20160804T200000
END:VEVENT
END:VCALENDAR
