BEGIN:VCALENDAR
PRODID:-//eluceo/ical//2.0/EN
VERSION:2.0
CALSCALE:GREGORIAN
BEGIN:VEVENT
UID:edc86b3f29fbb441d3b9cbfd6544b077
DTSTAMP:20260422T095123Z
SUMMARY:6-9p Princesses/Superheroes Kids Night In-AJCC
DESCRIPTION:The Knoxville Jewish Alliance\nThe Knoxville Jewish Alliance Ca
 lendar\nhttps://jewishknoxville.org/calendar/600-900-pm-ajcc--parent-night
 -out-177262\n\nParent Night Out
DTSTART;TZID=America/New_York:20160213T180000
DTEND;TZID=America/New_York:20160213T210000
END:VEVENT
END:VCALENDAR
