BEGIN:VCALENDAR
PRODID:-//eluceo/ical//2.0/EN
VERSION:2.0
CALSCALE:GREGORIAN
BEGIN:VEVENT
UID:330b71391811ee399e0888adda1533b9
DTSTAMP:20260422T132005Z
SUMMARY:6:00-9:30 p.m. - Fencing - AJCC Gym
DESCRIPTION:The Knoxville Jewish Alliance\nThe Knoxville Jewish Alliance Ca
 lendar\nhttps://jewishknoxville.org/calendar/600-930-pm-fencing--ajcc-gym3
 -201265\n\nFencing\n\nAJCC Gym
DTSTART;TZID=America/New_York:20160803T180000
DTEND;TZID=America/New_York:20160803T213000
END:VEVENT
END:VCALENDAR
