BEGIN:VCALENDAR
PRODID:-//eluceo/ical//2.0/EN
VERSION:2.0
CALSCALE:GREGORIAN
BEGIN:VEVENT
UID:c1ebb7a8e35cd796fc737ed1bfe89215
DTSTAMP:20260425T111127Z
SUMMARY:6:00 - 9:30 p.m. -Torah Fund Event - AJCC Orwitz Room 
DESCRIPTION:The Knoxville Jewish Alliance\nThe Knoxville Jewish Alliance Ca
 lendar\nhttps://jewishknoxville.org/calendar/600-930-pm-torah-fund-event--
 -ajcc-orwitz-room-175910\n\nTorah Fund Event
DTSTART;TZID=America/New_York:20160116T180000
DTEND;TZID=America/New_York:20160116T213000
END:VEVENT
END:VCALENDAR
