BEGIN:VCALENDAR
PRODID:-//eluceo/ical//2.0/EN
VERSION:2.0
CALSCALE:GREGORIAN
BEGIN:VEVENT
UID:f0685061fd8bff58fd57e613288d7741
DTSTAMP:20260421T111155Z
SUMMARY:6:00 p Rosh Chodesh Supper w/ Eclipse speaker Mark Littmann - HA
DESCRIPTION:The Knoxville Jewish Alliance\nThe Knoxville Jewish Alliance Ca
 lendar\nhttps://jewishknoxville.org/calendar/600-p-rosh-chodesh-supper-w-e
 clipse-speaker-mark-littmann-ha-236925\n\nRosh Chodesh (everyone invited!)
  on July 20 at 6:00 pm.  Light dinner and Mark Littmann will speak on the
  upcoming solar eclipse.\n\n 
DTSTART;TZID=America/New_York:20170720T180000
DTEND;TZID=America/New_York:20170720T200000
END:VEVENT
END:VCALENDAR
