BEGIN:VCALENDAR
PRODID:-//eluceo/ical//2.0/EN
VERSION:2.0
CALSCALE:GREGORIAN
BEGIN:VEVENT
UID:c2bd6e23bf36a6869f01c46be7861de3
DTSTAMP:20260424T175803Z
SUMMARY:6:00 pm- 8:00 pm  Hamentashen Bake
DESCRIPTION:The Knoxville Jewish Alliance\nThe Knoxville Jewish Alliance Ca
 lendar\nhttps://jewishknoxville.org/calendar/600-pm-800-pm--hamentashen-ba
 ke\n\nIt’s that time of year when the groggers come out for a spin\, Ham
 an gets a symphony of boos\, and we get to ‘Taschen it UP!\n\nHamentashe
 n time is here and since we are celebrating our birthday what better time 
 to get together\, celebrate\, bake and EAT!!\n\nJoin us on TUESDAY\, March
  19th at 6:00pm\n\n 
DTSTART;TZID=America/New_York:20190319T180000
DTEND;TZID=America/New_York:20190319T200000
END:VEVENT
END:VCALENDAR
