BEGIN:VCALENDAR
PRODID:-//eluceo/ical//2.0/EN
VERSION:2.0
CALSCALE:GREGORIAN
BEGIN:VEVENT
UID:d4c0ce4738a3ec3adebd88793a56fa49
DTSTAMP:20260419T201046Z
SUMMARY:6:00 p.m. - AJCC BUILDING CLOSES FOR FLOOR CLEANING
DESCRIPTION:The Knoxville Jewish Alliance\nThe Knoxville Jewish Alliance Ca
 lendar\nhttps://jewishknoxville.org/calendar/600-pm-ajcc-building-closes-f
 or-floor-cleaning-186761\n\nEntire AJCC Building Closed for Floor Cleaning
DTSTART;TZID=America/New_York:20160729T180000
DTEND;TZID=America/New_York:20160729T235500
END:VEVENT
END:VCALENDAR
