BEGIN:VCALENDAR
PRODID:-//eluceo/ical//2.0/EN
VERSION:2.0
CALSCALE:GREGORIAN
BEGIN:VEVENT
UID:c36ca3c390c41899def7b823c41dfc2f
DTSTAMP:20260421T174039Z
SUMMARY:6:00  p.m. - An Evening with Author Etgar Keret - AJCC Orwitz Rm 21
 7
DESCRIPTION:The Knoxville Jewish Alliance\nThe Knoxville Jewish Alliance Ca
 lendar\nhttps://jewishknoxville.org/calendar/600-pm-an-evening-with-author
 -etgar-keret---ajcc-orwitz-rm-217-319562\n\n6:00  p.m. - An Evening with 
 Author Etgar Keret - AJCC Orwitz Rm 217\n\n 
DTSTART;TZID=America/New_York:20190915T180000
DTEND;TZID=America/New_York:20190915T203000
END:VEVENT
END:VCALENDAR
