BEGIN:VCALENDAR
PRODID:-//eluceo/ical//2.0/EN
VERSION:2.0
CALSCALE:GREGORIAN
BEGIN:VEVENT
UID:e7896d12f3e3b6fbaa5d3742bca965ec
DTSTAMP:20260422T214811Z
SUMMARY:6:00 p.m. - Food Festival Planning Meeting - AJCC Gym
DESCRIPTION:The Knoxville Jewish Alliance\nThe Knoxville Jewish Alliance Ca
 lendar\nhttps://jewishknoxville.org/calendar/600-pm-food-festival-planning
 -meeting--ajcc-gym-190163\n\nFood Festival Planning Meeting\n\n 
DTSTART;TZID=America/New_York:20160510T180000
DTEND;TZID=America/New_York:20160510T200000
END:VEVENT
END:VCALENDAR
